BEGIN:VCALENDAR
PRODID:-//github.com/rianjs/ical.net//NONSGML ical.net 4.0//EN
VERSION:2.0
BEGIN:VEVENT
DESCRIPTION:2006 Annual Meeting by the American Academy of Neurology\n\nTi
 tle: Women's Issues in Cerebrovascular Diseases\n\nAccess URL: https://ww
 w.aan.com/msa/Public/Events/GetEventURL/711\n\nLearn More About This Even
 t: https://www.aan.com/msa/Public/Events/Details/711
DTEND:20060407T124500
DTSTAMP:20260424T122021Z
DTSTART:20060407T090000
LOCATION:https://www.aan.com/msa/Public/Events/GetEventURL/711
SEQUENCE:0
SUMMARY:AAN: Women's Issues in Cerebrovascular Diseases
UID:6f92af47-4a35-472e-b40f-95ce4df7119a
END:VEVENT
END:VCALENDAR
