BEGIN:VCALENDAR
PRODID:-//github.com/rianjs/ical.net//NONSGML ical.net 4.0//EN
VERSION:2.0
BEGIN:VEVENT
DESCRIPTION:2006 Annual Meeting by the American Academy of Neurology\n\nTi
 tle: Botulinum Toxins: Practical Issues and Clinical Uses for Neurologist
 s\n\nAccess URL: https://www.aan.com/msa/Public/Events/GetEventURL/712\n\
 nLearn More About This Event: https://www.aan.com/msa/Public/Events/Detai
 ls/712
DTEND:20060407T124500
DTSTAMP:20260424T121918Z
DTSTART:20060407T090000
LOCATION:https://www.aan.com/msa/Public/Events/GetEventURL/712
SEQUENCE:0
SUMMARY:AAN: Botulinum Toxins: Practical Issues and Clinical Uses for Neur
 ologists
UID:2a9e4220-bf41-4bc1-9968-43d1ebd1b96e
END:VEVENT
END:VCALENDAR
