BEGIN:VCALENDAR
PRODID:-//github.com/rianjs/ical.net//NONSGML ical.net 4.0//EN
VERSION:2.0
BEGIN:VEVENT
DESCRIPTION:2006 Annual Meeting by the American Academy of Neurology\n\nTi
 tle: Neuro-ophthalmology\n\nAccess URL: https://www.aan.com/msa/Public/Ev
 ents/GetEventURL/714\n\nLearn More About This Event: https://www.aan.com/
 msa/Public/Events/Details/714
DTEND:20060402T170000
DTSTAMP:20260424T121902Z
DTSTART:20060402T090000
LOCATION:https://www.aan.com/msa/Public/Events/GetEventURL/714
SEQUENCE:0
SUMMARY:AAN: Neuro-ophthalmology
UID:d15bc0f5-5901-4cfc-b6cc-85e59b721dad
END:VEVENT
END:VCALENDAR
