BEGIN:VCALENDAR
PRODID:-//github.com/rianjs/ical.net//NONSGML ical.net 4.0//EN
VERSION:2.0
BEGIN:VEVENT
DESCRIPTION:2006 Annual Meeting by the American Academy of Neurology\n\nTi
 tle: Neurological Intensive Care\n\nAccess URL: https://www.aan.com/msa/P
 ublic/Events/GetEventURL/715\n\nLearn More About This Event: https://www.
 aan.com/msa/Public/Events/Details/715
DTEND:20060407T170000
DTSTAMP:20260424T122117Z
DTSTART:20060407T090000
LOCATION:https://www.aan.com/msa/Public/Events/GetEventURL/715
SEQUENCE:0
SUMMARY:AAN: Neurological Intensive Care
UID:c57d1934-3d45-4936-bc18-1a1c3e637801
END:VEVENT
END:VCALENDAR
