BEGIN:VCALENDAR
PRODID:-//github.com/rianjs/ical.net//NONSGML ical.net 4.0//EN
VERSION:2.0
BEGIN:VEVENT
DESCRIPTION:2006 Annual Meeting by the American Academy of Neurology\n\nTi
 tle: Clinical Usefulness of Botulinum Toxin and Treatment of Dystonia\n\n
 Access URL: https://www.aan.com/msa/Public/Events/GetEventURL/717\n\nLear
 n More About This Event: https://www.aan.com/msa/Public/Events/Details/71
 7
DTEND:20060407T180000
DTSTAMP:20260424T122037Z
DTSTART:20060407T133000
LOCATION:https://www.aan.com/msa/Public/Events/GetEventURL/717
SEQUENCE:0
SUMMARY:AAN: Clinical Usefulness of Botulinum Toxin and Treatment of Dysto
 nia
UID:557cb610-cfc5-497b-85b2-b84c48afcea5
END:VEVENT
END:VCALENDAR
