BEGIN:VCALENDAR
PRODID:-//github.com/rianjs/ical.net//NONSGML ical.net 4.0//EN
VERSION:2.0
BEGIN:VEVENT
DESCRIPTION:2006 Annual Meeting by the American Academy of Neurology\n\nTi
 tle: Debates on Headache\n\nAccess URL: https://www.aan.com/msa/Public/Ev
 ents/GetEventURL/718\n\nLearn More About This Event: https://www.aan.com/
 msa/Public/Events/Details/718
DTEND:20060407T170000
DTSTAMP:20260424T121859Z
DTSTART:20060407T131500
LOCATION:https://www.aan.com/msa/Public/Events/GetEventURL/718
SEQUENCE:0
SUMMARY:AAN: Debates on Headache
UID:c245069c-0ece-410e-931d-0e130942dc95
END:VEVENT
END:VCALENDAR
