BEGIN:VCALENDAR
PRODID:-//github.com/rianjs/ical.net//NONSGML ical.net 4.0//EN
VERSION:2.0
BEGIN:VEVENT
DESCRIPTION:2006 Annual Meeting by the American Academy of Neurology\n\nTi
 tle: Practical Management of Movement Disorders\n\nAccess URL: https://ww
 w.aan.com/msa/Public/Events/GetEventURL/719\n\nLearn More About This Even
 t: https://www.aan.com/msa/Public/Events/Details/719
DTEND:20060407T170000
DTSTAMP:20260424T122035Z
DTSTART:20060407T131500
LOCATION:https://www.aan.com/msa/Public/Events/GetEventURL/719
SEQUENCE:0
SUMMARY:AAN: Practical Management of Movement Disorders
UID:f204c513-a341-455e-b67a-6e411612e11c
END:VEVENT
END:VCALENDAR
