BEGIN:VCALENDAR
PRODID:-//github.com/rianjs/ical.net//NONSGML ical.net 4.0//EN
VERSION:2.0
BEGIN:VEVENT
DESCRIPTION:2016 Fall Conference by the American Academy of Neurology\n\nT
 itle: Update in Stroke II\n\nAccess URL: https://www.aan.com/msa/Public/E
 vents/GetEventURL/72\n\nLearn More About This Event: https://www.aan.com/
 msa/Public/Events/Details/72
DTEND:20161014T113000
DTSTAMP:20260424T053925Z
DTSTART:20161014T100000
LOCATION:https://www.aan.com/msa/Public/Events/GetEventURL/72
SEQUENCE:0
SUMMARY:AAN: Update in Stroke II
UID:21353d30-9eca-43d4-bd34-5d696701d941
END:VEVENT
END:VCALENDAR
