BEGIN:VCALENDAR
PRODID:-//github.com/rianjs/ical.net//NONSGML ical.net 4.0//EN
VERSION:2.0
BEGIN:VEVENT
DESCRIPTION:2006 Annual Meeting by the American Academy of Neurology\n\nTi
 tle: Stroke Prevention in 2006\n\nAccess URL: https://www.aan.com/msa/Pub
 lic/Events/GetEventURL/720\n\nLearn More About This Event: https://www.aa
 n.com/msa/Public/Events/Details/720
DTEND:20060407T170000
DTSTAMP:20260424T121918Z
DTSTART:20060407T131500
LOCATION:https://www.aan.com/msa/Public/Events/GetEventURL/720
SEQUENCE:0
SUMMARY:AAN: Stroke Prevention in 2006
UID:92ebcb9a-0674-4b6c-a2fd-c2899a0d9e93
END:VEVENT
END:VCALENDAR
