BEGIN:VCALENDAR
PRODID:-//github.com/rianjs/ical.net//NONSGML ical.net 4.0//EN
VERSION:2.0
BEGIN:VEVENT
DESCRIPTION:2006 Annual Meeting by the American Academy of Neurology\n\nTi
 tle: Electronic Tools that Improve Medical Decision Making\n\nAccess URL:
  https://www.aan.com/msa/Public/Events/GetEventURL/721\n\nLearn More Abou
 t This Event: https://www.aan.com/msa/Public/Events/Details/721
DTEND:20060407T133000
DTSTAMP:20260424T122034Z
DTSTART:20060407T120000
LOCATION:https://www.aan.com/msa/Public/Events/GetEventURL/721
SEQUENCE:0
SUMMARY:AAN: Electronic Tools that Improve Medical Decision Making
UID:7b0dae00-901b-4877-a085-91bd0c09361c
END:VEVENT
END:VCALENDAR
