BEGIN:VCALENDAR
PRODID:-//github.com/rianjs/ical.net//NONSGML ical.net 4.0//EN
VERSION:2.0
BEGIN:VEVENT
DESCRIPTION:2006 Annual Meeting by the American Academy of Neurology\n\nTi
 tle: Multiple Sclerosis Therapy\n\nAccess URL: https://www.aan.com/msa/Pu
 blic/Events/GetEventURL/723\n\nLearn More About This Event: https://www.a
 an.com/msa/Public/Events/Details/723
DTEND:20060407T210000
DTSTAMP:20260424T122116Z
DTSTART:20060407T190000
LOCATION:https://www.aan.com/msa/Public/Events/GetEventURL/723
SEQUENCE:0
SUMMARY:AAN: Multiple Sclerosis Therapy
UID:fa4d137d-f866-4a1d-977c-6b8ac244cf0e
END:VEVENT
END:VCALENDAR
