BEGIN:VCALENDAR
PRODID:-//github.com/rianjs/ical.net//NONSGML ical.net 4.0//EN
VERSION:2.0
BEGIN:VEVENT
DESCRIPTION:2006 Annual Meeting by the American Academy of Neurology\n\nTi
 tle: Stroke Therapy\n\nAccess URL: https://www.aan.com/msa/Public/Events/
 GetEventURL/724\n\nLearn More About This Event: https://www.aan.com/msa/P
 ublic/Events/Details/724
DTEND:20060407T210000
DTSTAMP:20260424T122017Z
DTSTART:20060407T190000
LOCATION:https://www.aan.com/msa/Public/Events/GetEventURL/724
SEQUENCE:0
SUMMARY:AAN: Stroke Therapy
UID:f9e55a99-e3e9-4299-80ee-e60d317cbe69
END:VEVENT
END:VCALENDAR
