BEGIN:VCALENDAR
PRODID:-//github.com/rianjs/ical.net//NONSGML ical.net 4.0//EN
VERSION:2.0
BEGIN:VEVENT
DESCRIPTION:2006 Annual Meeting by the American Academy of Neurology\n\nTi
 tle: Pediatric Neuro-ophthalmology\n\nAccess URL: https://www.aan.com/msa
 /Public/Events/GetEventURL/725\n\nLearn More About This Event: https://ww
 w.aan.com/msa/Public/Events/Details/725
DTEND:20070505T083000
DTSTAMP:20260424T122032Z
DTSTART:20070505T064500
LOCATION:https://www.aan.com/msa/Public/Events/GetEventURL/725
SEQUENCE:0
SUMMARY:AAN: Pediatric Neuro-ophthalmology
UID:17733ad0-f2c5-469d-93d2-8c7847f25700
END:VEVENT
END:VCALENDAR
