BEGIN:VCALENDAR
PRODID:-//github.com/rianjs/ical.net//NONSGML ical.net 4.0//EN
VERSION:2.0
BEGIN:VEVENT
DESCRIPTION:2006 Annual Meeting by the American Academy of Neurology\n\nTi
 tle: Pharmacological Approaches to Pain Management\n\nAccess URL: https:/
 /www.aan.com/msa/Public/Events/GetEventURL/726\n\nLearn More About This E
 vent: https://www.aan.com/msa/Public/Events/Details/726
DTEND:20060408T083000
DTSTAMP:20260424T122152Z
DTSTART:20060408T064500
LOCATION:https://www.aan.com/msa/Public/Events/GetEventURL/726
SEQUENCE:0
SUMMARY:AAN: Pharmacological Approaches to Pain Management
UID:bdae1065-fdbd-4ece-82e1-5f15b79ebc5f
END:VEVENT
END:VCALENDAR
