BEGIN:VCALENDAR
PRODID:-//github.com/rianjs/ical.net//NONSGML ical.net 4.0//EN
VERSION:2.0
BEGIN:VEVENT
DESCRIPTION:2006 Annual Meeting by the American Academy of Neurology\n\nTi
 tle: Balance and Gait Disorders\n\nAccess URL: https://www.aan.com/msa/Pu
 blic/Events/GetEventURL/727\n\nLearn More About This Event: https://www.a
 an.com/msa/Public/Events/Details/727
DTEND:20060408T083000
DTSTAMP:20260424T121918Z
DTSTART:20060408T064500
LOCATION:https://www.aan.com/msa/Public/Events/GetEventURL/727
SEQUENCE:0
SUMMARY:AAN: Balance and Gait Disorders
UID:14890e13-9672-42b9-a10f-158feb956443
END:VEVENT
END:VCALENDAR
