BEGIN:VCALENDAR
PRODID:-//github.com/rianjs/ical.net//NONSGML ical.net 4.0//EN
VERSION:2.0
BEGIN:VEVENT
DESCRIPTION:2006 Annual Meeting by the American Academy of Neurology\n\nTi
 tle: The Diagnosis and Management of Dural Sinus and Cerebral Venous Thro
 mbosis\n\nAccess URL: https://www.aan.com/msa/Public/Events/GetEventURL/7
 28\n\nLearn More About This Event: https://www.aan.com/msa/Public/Events/
 Details/728
DTEND:20060408T083000
DTSTAMP:20260424T121902Z
DTSTART:20060408T064500
LOCATION:https://www.aan.com/msa/Public/Events/GetEventURL/728
SEQUENCE:0
SUMMARY:AAN: The Diagnosis and Management of Dural Sinus and Cerebral Veno
 us Thrombosis
UID:1403d1ab-0335-495d-a368-428e782521e7
END:VEVENT
END:VCALENDAR
