BEGIN:VCALENDAR
PRODID:-//github.com/rianjs/ical.net//NONSGML ical.net 4.0//EN
VERSION:2.0
BEGIN:VEVENT
DESCRIPTION:2016 Fall Conference by the American Academy of Neurology\n\nT
 itle: Practice Management II: Business Strategies for the Small Group and
  Solo Practitioner\n\nAccess URL: https://www.aan.com/msa/Public/Events/G
 etEventURL/73\n\nLearn More About This Event: https://www.aan.com/msa/Pub
 lic/Events/Details/73
DTEND:20161014T113000
DTSTAMP:20260424T053900Z
DTSTART:20161014T100000
LOCATION:https://www.aan.com/msa/Public/Events/GetEventURL/73
SEQUENCE:0
SUMMARY:AAN: Practice Management II: Business Strategies for the Small Gro
 up and Solo Practitioner
UID:1d103e24-c00c-4dff-aab7-804f68b5b2c6
END:VEVENT
END:VCALENDAR
