BEGIN:VCALENDAR
PRODID:-//github.com/rianjs/ical.net//NONSGML ical.net 4.0//EN
VERSION:2.0
BEGIN:VEVENT
DESCRIPTION:2006 Annual Meeting by the American Academy of Neurology\n\nTi
 tle: Update in Childhood Headache\n\nAccess URL: https://www.aan.com/msa/
 Public/Events/GetEventURL/730\n\nLearn More About This Event: https://www
 .aan.com/msa/Public/Events/Details/730
DTEND:20060408T124500
DTSTAMP:20260424T121918Z
DTSTART:20060408T090000
LOCATION:https://www.aan.com/msa/Public/Events/GetEventURL/730
SEQUENCE:0
SUMMARY:AAN: Update in Childhood Headache
UID:d8931f1a-ccb3-443c-a322-88346cafea00
END:VEVENT
END:VCALENDAR
