BEGIN:VCALENDAR
PRODID:-//github.com/rianjs/ical.net//NONSGML ical.net 4.0//EN
VERSION:2.0
BEGIN:VEVENT
DESCRIPTION:2006 Annual Meeting by the American Academy of Neurology\n\nTi
 tle: Parkinson's Disease and Movement Disorders Update\n\nAccess URL: htt
 ps://www.aan.com/msa/Public/Events/GetEventURL/732\n\nLearn More About Th
 is Event: https://www.aan.com/msa/Public/Events/Details/732
DTEND:20060408T124500
DTSTAMP:20260424T121917Z
DTSTART:20060408T090000
LOCATION:https://www.aan.com/msa/Public/Events/GetEventURL/732
SEQUENCE:0
SUMMARY:AAN: Parkinson's Disease and Movement Disorders Update
UID:9ffb62a2-c55f-479f-b016-c15428ce9f29
END:VEVENT
END:VCALENDAR
