BEGIN:VCALENDAR
PRODID:-//github.com/rianjs/ical.net//NONSGML ical.net 4.0//EN
VERSION:2.0
BEGIN:VEVENT
DESCRIPTION:2006 Annual Meeting by the American Academy of Neurology\n\nTi
 tle: Menopausal Neurology: The Five M's\n\nAccess URL: https://www.aan.co
 m/msa/Public/Events/GetEventURL/733\n\nLearn More About This Event: https
 ://www.aan.com/msa/Public/Events/Details/733
DTEND:20060402T180000
DTSTAMP:20260424T121917Z
DTSTART:20060402T141500
LOCATION:https://www.aan.com/msa/Public/Events/GetEventURL/733
SEQUENCE:0
SUMMARY:AAN: Menopausal Neurology: The Five M's
UID:bfab36ed-f0e1-402c-8c77-75372bac562c
END:VEVENT
END:VCALENDAR
