BEGIN:VCALENDAR
PRODID:-//github.com/rianjs/ical.net//NONSGML ical.net 4.0//EN
VERSION:2.0
BEGIN:VEVENT
DESCRIPTION:2006 Annual Meeting by the American Academy of Neurology\n\nTi
 tle: Non-Alzheimer's Dementia\n\nAccess URL: https://www.aan.com/msa/Publ
 ic/Events/GetEventURL/736\n\nLearn More About This Event: https://www.aan
 .com/msa/Public/Events/Details/736
DTEND:20060403T180000
DTSTAMP:20260424T121917Z
DTSTART:20060403T141500
LOCATION:https://www.aan.com/msa/Public/Events/GetEventURL/736
SEQUENCE:0
SUMMARY:AAN: Non-Alzheimer's Dementia
UID:59f9a1b8-d39f-41aa-a05b-d55e350d8d3c
END:VEVENT
END:VCALENDAR
