BEGIN:VCALENDAR
PRODID:-//github.com/rianjs/ical.net//NONSGML ical.net 4.0//EN
VERSION:2.0
BEGIN:VEVENT
DESCRIPTION:2016 Fall Conference by the American Academy of Neurology\n\nT
 itle: Neurology Update I\n\nAccess URL: https://www.aan.com/msa/Public/Ev
 ents/GetEventURL/74\n\nLearn More About This Event: https://www.aan.com/m
 sa/Public/Events/Details/74
DTEND:20161014T143000
DTSTAMP:20260424T053900Z
DTSTART:20161014T130000
LOCATION:https://www.aan.com/msa/Public/Events/GetEventURL/74
SEQUENCE:0
SUMMARY:AAN: Neurology Update I
UID:ce6da0b6-4de2-45b0-9d52-a883d7280cd3
END:VEVENT
END:VCALENDAR
