BEGIN:VCALENDAR
PRODID:-//github.com/rianjs/ical.net//NONSGML ical.net 4.0//EN
VERSION:2.0
BEGIN:VEVENT
DESCRIPTION:2006 Annual Meeting by the American Academy of Neurology\n\nTi
 tle: New Codes to Improve Your Bottom Line\n\nAccess URL: https://www.aan
 .com/msa/Public/Events/GetEventURL/742\n\nLearn More About This Event: ht
 tps://www.aan.com/msa/Public/Events/Details/742
DTEND:20060402T133000
DTSTAMP:20260424T122020Z
DTSTART:20060402T120000
LOCATION:https://www.aan.com/msa/Public/Events/GetEventURL/742
SEQUENCE:0
SUMMARY:AAN: New Codes to Improve Your Bottom Line
UID:b31e6ff2-21bc-4752-98c9-6f38ac1d300c
END:VEVENT
END:VCALENDAR
