BEGIN:VCALENDAR
PRODID:-//github.com/rianjs/ical.net//NONSGML ical.net 4.0//EN
VERSION:2.0
BEGIN:VEVENT
DESCRIPTION:2006 Annual Meeting by the American Academy of Neurology\n\nTi
 tle: Creativity and Neurological Disease\n\nAccess URL: https://www.aan.c
 om/msa/Public/Events/GetEventURL/745\n\nLearn More About This Event: http
 s://www.aan.com/msa/Public/Events/Details/745
DTEND:20060403T083000
DTSTAMP:20260424T122033Z
DTSTART:20060403T064500
LOCATION:https://www.aan.com/msa/Public/Events/GetEventURL/745
SEQUENCE:0
SUMMARY:AAN: Creativity and Neurological Disease
UID:63448d9e-484d-4212-ba53-e90f1dd20757
END:VEVENT
END:VCALENDAR
