BEGIN:VCALENDAR
PRODID:-//github.com/rianjs/ical.net//NONSGML ical.net 4.0//EN
VERSION:2.0
BEGIN:VEVENT
DESCRIPTION:2006 Annual Meeting by the American Academy of Neurology\n\nTi
 tle: Not So Fast\, My Friend: Challenges to the Conventional Wisdom in St
 roke\n\nAccess URL: https://www.aan.com/msa/Public/Events/GetEventURL/746
 \n\nLearn More About This Event: https://www.aan.com/msa/Public/Events/De
 tails/746
DTEND:20060403T083000
DTSTAMP:20260424T122034Z
DTSTART:20060403T064500
LOCATION:https://www.aan.com/msa/Public/Events/GetEventURL/746
SEQUENCE:0
SUMMARY:AAN: Not So Fast\, My Friend: Challenges to the Conventional Wisdo
 m in Stroke
UID:199b2d1d-13c5-4b0b-9f11-8f4042514111
END:VEVENT
END:VCALENDAR
