BEGIN:VCALENDAR
PRODID:-//github.com/rianjs/ical.net//NONSGML ical.net 4.0//EN
VERSION:2.0
BEGIN:VEVENT
DESCRIPTION:2016 Fall Conference by the American Academy of Neurology\n\nT
 itle: Practice Management III: Integrating Advanced Practice Providers to
  Your Practice\n\nAccess URL: https://www.aan.com/msa/Public/Events/GetEv
 entURL/75\n\nLearn More About This Event: https://www.aan.com/msa/Public/
 Events/Details/75
DTEND:20161014T143000
DTSTAMP:20260424T053901Z
DTSTART:20161014T130000
LOCATION:https://www.aan.com/msa/Public/Events/GetEventURL/75
SEQUENCE:0
SUMMARY:AAN: Practice Management III: Integrating Advanced Practice Provid
 ers to Your Practice
UID:77029c95-1290-4841-8355-8b456e90ae76
END:VEVENT
END:VCALENDAR
