BEGIN:VCALENDAR
PRODID:-//github.com/rianjs/ical.net//NONSGML ical.net 4.0//EN
VERSION:2.0
BEGIN:VEVENT
DESCRIPTION:2006 Annual Meeting by the American Academy of Neurology\n\nTi
 tle: Historical Origins and Development of Modern Neurological Therapeuti
 cs\n\nAccess URL: https://www.aan.com/msa/Public/Events/GetEventURL/750\n
 \nLearn More About This Event: https://www.aan.com/msa/Public/Events/Deta
 ils/750
DTEND:20090429T180000
DTSTAMP:20260424T122035Z
DTSTART:20090429T141500
LOCATION:https://www.aan.com/msa/Public/Events/GetEventURL/750
SEQUENCE:0
SUMMARY:AAN: Historical Origins and Development of Modern Neurological The
 rapeutics
UID:1b3b96ae-c862-4e29-8624-ac0704ac5a6e
END:VEVENT
END:VCALENDAR
