BEGIN:VCALENDAR
PRODID:-//github.com/rianjs/ical.net//NONSGML ical.net 4.0//EN
VERSION:2.0
BEGIN:VEVENT
DESCRIPTION:2006 Annual Meeting by the American Academy of Neurology\n\nTi
 tle: Diagnosis\, Management\, and Rehabilitation of Traumatic Neurologica
 l Injuries\n\nAccess URL: https://www.aan.com/msa/Public/Events/GetEventU
 RL/751\n\nLearn More About This Event: https://www.aan.com/msa/Public/Eve
 nts/Details/751
DTEND:20060405T180000
DTSTAMP:20260424T121916Z
DTSTART:20060405T141500
LOCATION:https://www.aan.com/msa/Public/Events/GetEventURL/751
SEQUENCE:0
SUMMARY:AAN: Diagnosis\, Management\, and Rehabilitation of Traumatic Neur
 ological Injuries
UID:dac836ee-442a-4170-9e02-1d20109af34d
END:VEVENT
END:VCALENDAR
