BEGIN:VCALENDAR
PRODID:-//github.com/rianjs/ical.net//NONSGML ical.net 4.0//EN
VERSION:2.0
BEGIN:VEVENT
DESCRIPTION:2006 Annual Meeting by the American Academy of Neurology\n\nTi
 tle: Persistent Vegetative State: Evolving Medical\, Ethical\, and Legal 
 Issues for the Neurologist\n\nAccess URL: https://www.aan.com/msa/Public/
 Events/GetEventURL/752\n\nLearn More About This Event: https://www.aan.co
 m/msa/Public/Events/Details/752
DTEND:20060406T083000
DTSTAMP:20260424T121901Z
DTSTART:20060406T064500
LOCATION:https://www.aan.com/msa/Public/Events/GetEventURL/752
SEQUENCE:0
SUMMARY:AAN: Persistent Vegetative State: Evolving Medical\, Ethical\, and
  Legal Issues for the Neurologist
UID:2c34dd3d-b6ad-48a2-819e-a22a70f3d13a
END:VEVENT
END:VCALENDAR
