BEGIN:VCALENDAR
PRODID:-//github.com/rianjs/ical.net//NONSGML ical.net 4.0//EN
VERSION:2.0
BEGIN:VEVENT
DESCRIPTION:2006 Annual Meeting by the American Academy of Neurology\n\nTi
 tle: Sleep Medicine Cases for the Neurologist\n\nAccess URL: https://www.
 aan.com/msa/Public/Events/GetEventURL/753\n\nLearn More About This Event:
  https://www.aan.com/msa/Public/Events/Details/753
DTEND:20060406T220000
DTSTAMP:20260424T122037Z
DTSTART:20060406T190000
LOCATION:https://www.aan.com/msa/Public/Events/GetEventURL/753
SEQUENCE:0
SUMMARY:AAN: Sleep Medicine Cases for the Neurologist
UID:caa504e0-d77b-4399-9292-0e8f40547052
END:VEVENT
END:VCALENDAR
