BEGIN:VCALENDAR
PRODID:-//github.com/rianjs/ical.net//NONSGML ical.net 4.0//EN
VERSION:2.0
BEGIN:VEVENT
DESCRIPTION:2006 Annual Meeting by the American Academy of Neurology\n\nTi
 tle: Now You See It\, Now You Know It: Pathognomonic Neuro-ophthalmology 
 Findings\n\nAccess URL: https://www.aan.com/msa/Public/Events/GetEventURL
 /754\n\nLearn More About This Event: https://www.aan.com/msa/Public/Event
 s/Details/754
DTEND:20060406T220000
DTSTAMP:20260424T121919Z
DTSTART:20060406T190000
LOCATION:https://www.aan.com/msa/Public/Events/GetEventURL/754
SEQUENCE:0
SUMMARY:AAN: Now You See It\, Now You Know It: Pathognomonic Neuro-ophthal
 mology Findings
UID:a81212f8-5534-48f5-9fae-54cc41ff1fd6
END:VEVENT
END:VCALENDAR
