BEGIN:VCALENDAR
PRODID:-//github.com/rianjs/ical.net//NONSGML ical.net 4.0//EN
VERSION:2.0
BEGIN:VEVENT
DESCRIPTION:2006 Annual Meeting by the American Academy of Neurology\n\nTi
 tle: Case Studies in Neurogenetics\n\nAccess URL: https://www.aan.com/msa
 /Public/Events/GetEventURL/755\n\nLearn More About This Event: https://ww
 w.aan.com/msa/Public/Events/Details/755
DTEND:20100415T220000
DTSTAMP:20260424T121916Z
DTSTART:20100415T190000
LOCATION:https://www.aan.com/msa/Public/Events/GetEventURL/755
SEQUENCE:0
SUMMARY:AAN: Case Studies in Neurogenetics
UID:e8467e44-70d6-4d37-b930-ee7eafb150d8
END:VEVENT
END:VCALENDAR
