BEGIN:VCALENDAR
PRODID:-//github.com/rianjs/ical.net//NONSGML ical.net 4.0//EN
VERSION:2.0
BEGIN:VEVENT
DESCRIPTION:2006 Annual Meeting by the American Academy of Neurology\n\nTi
 tle: The Neurobiology of Opiate Addiction and Its Treatments\n\nAccess UR
 L: https://www.aan.com/msa/Public/Events/GetEventURL/756\n\nLearn More Ab
 out This Event: https://www.aan.com/msa/Public/Events/Details/756
DTEND:20060407T083000
DTSTAMP:20260424T122035Z
DTSTART:20060407T064500
LOCATION:https://www.aan.com/msa/Public/Events/GetEventURL/756
SEQUENCE:0
SUMMARY:AAN: The Neurobiology of Opiate Addiction and Its Treatments
UID:1f1071bb-3c37-4e23-9086-bf96bd9e6542
END:VEVENT
END:VCALENDAR
