BEGIN:VCALENDAR
PRODID:-//github.com/rianjs/ical.net//NONSGML ical.net 4.0//EN
VERSION:2.0
BEGIN:VEVENT
DESCRIPTION:2006 Annual Meeting by the American Academy of Neurology\n\nTi
 tle: Low Pressure Headaches\n\nAccess URL: https://www.aan.com/msa/Public
 /Events/GetEventURL/757\n\nLearn More About This Event: https://www.aan.c
 om/msa/Public/Events/Details/757
DTEND:20080418T083000
DTSTAMP:20260424T121916Z
DTSTART:20080418T064500
LOCATION:https://www.aan.com/msa/Public/Events/GetEventURL/757
SEQUENCE:0
SUMMARY:AAN: Low Pressure Headaches
UID:a27dc5f8-f74b-4df3-bca6-32572dee709d
END:VEVENT
END:VCALENDAR
