BEGIN:VCALENDAR
PRODID:-//github.com/rianjs/ical.net//NONSGML ical.net 4.0//EN
VERSION:2.0
BEGIN:VEVENT
DESCRIPTION:2006 Annual Meeting by the American Academy of Neurology\n\nTi
 tle: Update in Neurology II\n\nAccess URL: https://www.aan.com/msa/Public
 /Events/GetEventURL/759\n\nLearn More About This Event: https://www.aan.c
 om/msa/Public/Events/Details/759
DTEND:20060407T170000
DTSTAMP:20260424T121917Z
DTSTART:20060407T090000
LOCATION:https://www.aan.com/msa/Public/Events/GetEventURL/759
SEQUENCE:0
SUMMARY:AAN: Update in Neurology II
UID:8ce2e099-a5d2-4b18-bc61-4b7b14191ad5
END:VEVENT
END:VCALENDAR
