BEGIN:VCALENDAR
PRODID:-//github.com/rianjs/ical.net//NONSGML ical.net 4.0//EN
VERSION:2.0
BEGIN:VEVENT
DESCRIPTION:2016 Fall Conference by the American Academy of Neurology\n\nT
 itle: Neurology Update II\n\nAccess URL: https://www.aan.com/msa/Public/E
 vents/GetEventURL/76\n\nLearn More About This Event: https://www.aan.com/
 msa/Public/Events/Details/76
DTEND:20161014T163000
DTSTAMP:20260424T053859Z
DTSTART:20161014T150000
LOCATION:https://www.aan.com/msa/Public/Events/GetEventURL/76
SEQUENCE:0
SUMMARY:AAN: Neurology Update II
UID:37fba72f-4d84-40cf-b826-a633f78e9681
END:VEVENT
END:VCALENDAR
