BEGIN:VCALENDAR
PRODID:-//github.com/rianjs/ical.net//NONSGML ical.net 4.0//EN
VERSION:2.0
BEGIN:VEVENT
DESCRIPTION:2006 Annual Meeting by the American Academy of Neurology\n\nTi
 tle: Special Considerations in Women With Epilepsy\n\nAccess URL: https:/
 /www.aan.com/msa/Public/Events/GetEventURL/762\n\nLearn More About This E
 vent: https://www.aan.com/msa/Public/Events/Details/762
DTEND:20070504T170000
DTSTAMP:20260424T121917Z
DTSTART:20070504T131500
LOCATION:https://www.aan.com/msa/Public/Events/GetEventURL/762
SEQUENCE:0
SUMMARY:AAN: Special Considerations in Women With Epilepsy
UID:f4178380-ab1a-4ece-ba15-17544fcb744c
END:VEVENT
END:VCALENDAR
