BEGIN:VCALENDAR
PRODID:-//github.com/rianjs/ical.net//NONSGML ical.net 4.0//EN
VERSION:2.0
BEGIN:VEVENT
DESCRIPTION:2006 Annual Meeting by the American Academy of Neurology\n\nTi
 tle: Heavy Metals and Neurology\n\nAccess URL: https://www.aan.com/msa/Pu
 blic/Events/GetEventURL/763\n\nLearn More About This Event: https://www.a
 an.com/msa/Public/Events/Details/763
DTEND:20060408T083000
DTSTAMP:20260424T121917Z
DTSTART:20060408T064500
LOCATION:https://www.aan.com/msa/Public/Events/GetEventURL/763
SEQUENCE:0
SUMMARY:AAN: Heavy Metals and Neurology
UID:c89e2f50-5f4e-4139-92cb-0fa335367c83
END:VEVENT
END:VCALENDAR
