BEGIN:VCALENDAR
PRODID:-//github.com/rianjs/ical.net//NONSGML ical.net 4.0//EN
VERSION:2.0
BEGIN:VEVENT
DESCRIPTION:2006 Annual Meeting by the American Academy of Neurology\n\nTi
 tle: Semi-quantitation of EMG Motor Unit Potentials\n\nAccess URL: https:
 //www.aan.com/msa/Public/Events/GetEventURL/765\n\nLearn More About This 
 Event: https://www.aan.com/msa/Public/Events/Details/765
DTEND:20070505T083000
DTSTAMP:20260424T121917Z
DTSTART:20070505T064500
LOCATION:https://www.aan.com/msa/Public/Events/GetEventURL/765
SEQUENCE:0
SUMMARY:AAN: Semi-quantitation of EMG Motor Unit Potentials
UID:e964cdd3-77eb-4a9a-9447-7a3a92277da2
END:VEVENT
END:VCALENDAR
