BEGIN:VCALENDAR
PRODID:-//github.com/rianjs/ical.net//NONSGML ical.net 4.0//EN
VERSION:2.0
BEGIN:VEVENT
DESCRIPTION:2006 Annual Meeting by the American Academy of Neurology\n\nTi
 tle: Neurological Consultations in the ICU\n\nAccess URL: https://www.aan
 .com/msa/Public/Events/GetEventURL/766\n\nLearn More About This Event: ht
 tps://www.aan.com/msa/Public/Events/Details/766
DTEND:20060408T124500
DTSTAMP:20260424T122115Z
DTSTART:20060408T090000
LOCATION:https://www.aan.com/msa/Public/Events/GetEventURL/766
SEQUENCE:0
SUMMARY:AAN: Neurological Consultations in the ICU
UID:ee9d7b4d-b5df-4edb-9f69-549caf8fae8a
END:VEVENT
END:VCALENDAR
