BEGIN:VCALENDAR
PRODID:-//github.com/rianjs/ical.net//NONSGML ical.net 4.0//EN
VERSION:2.0
BEGIN:VEVENT
DESCRIPTION:2006 Annual Meeting by the American Academy of Neurology\n\nTi
 tle: Clinical Epilepsy II\n\nAccess URL: https://www.aan.com/msa/Public/E
 vents/GetEventURL/769\n\nLearn More About This Event: https://www.aan.com
 /msa/Public/Events/Details/769
DTEND:20060403T180000
DTSTAMP:20260424T122019Z
DTSTART:20060403T141500
LOCATION:https://www.aan.com/msa/Public/Events/GetEventURL/769
SEQUENCE:0
SUMMARY:AAN: Clinical Epilepsy II
UID:68c59c61-55ef-4414-96de-ef963fcf5d53
END:VEVENT
END:VCALENDAR
