BEGIN:VCALENDAR
PRODID:-//github.com/rianjs/ical.net//NONSGML ical.net 4.0//EN
VERSION:2.0
BEGIN:VEVENT
DESCRIPTION:2016 Fall Conference by the American Academy of Neurology\n\nT
 itle: Practice Management IV: Surviving in the Era of Value-based Care: P
 reparing for MIPS\n\nAccess URL: https://www.aan.com/msa/Public/Events/Ge
 tEventURL/77\n\nLearn More About This Event: https://www.aan.com/msa/Publ
 ic/Events/Details/77
DTEND:20161014T163000
DTSTAMP:20260424T053927Z
DTSTART:20161014T150000
LOCATION:https://www.aan.com/msa/Public/Events/GetEventURL/77
SEQUENCE:0
SUMMARY:AAN: Practice Management IV: Surviving in the Era of Value-based C
 are: Preparing for MIPS
UID:ce814d56-2dec-420a-b35e-70c7d2f76670
END:VEVENT
END:VCALENDAR
