BEGIN:VCALENDAR
PRODID:-//github.com/rianjs/ical.net//NONSGML ical.net 4.0//EN
VERSION:2.0
BEGIN:VEVENT
DESCRIPTION:2006 Annual Meeting by the American Academy of Neurology\n\nTi
 tle: Effects of Epilepsy and Its Treatment on Cognition and Behavior\n\nA
 ccess URL: https://www.aan.com/msa/Public/Events/GetEventURL/770\n\nLearn
  More About This Event: https://www.aan.com/msa/Public/Events/Details/770
DTEND:20060407T083000
DTSTAMP:20260424T121917Z
DTSTART:20060407T064500
LOCATION:https://www.aan.com/msa/Public/Events/GetEventURL/770
SEQUENCE:0
SUMMARY:AAN: Effects of Epilepsy and Its Treatment on Cognition and Behavi
 or
UID:bbfb049e-bd7d-42fd-8a29-d982ed1dbd47
END:VEVENT
END:VCALENDAR
