BEGIN:VCALENDAR
PRODID:-//github.com/rianjs/ical.net//NONSGML ical.net 4.0//EN
VERSION:2.0
BEGIN:VEVENT
DESCRIPTION:2006 Annual Meeting by the American Academy of Neurology\n\nTi
 tle: 2006 AAN Clerkship and Program Directors' Conference: Clinical Skill
 s and Skills Assessment\n\nAccess URL: https://www.aan.com/msa/Public/Eve
 nts/GetEventURL/771\n\nLearn More About This Event: https://www.aan.com/m
 sa/Public/Events/Details/771
DTEND:20060401T163000
DTSTAMP:20260424T121918Z
DTSTART:20060401T083000
LOCATION:https://www.aan.com/msa/Public/Events/GetEventURL/771
SEQUENCE:0
SUMMARY:AAN: 2006 AAN Clerkship and Program Directors' Conference: Clinica
 l Skills and Skills Assessment
UID:12e4e03e-2cb6-4bea-84c9-acbabda8de1e
END:VEVENT
END:VCALENDAR
