BEGIN:VCALENDAR
PRODID:-//github.com/rianjs/ical.net//NONSGML ical.net 4.0//EN
VERSION:2.0
BEGIN:VEVENT
DESCRIPTION:2006 Annual Meeting by the American Academy of Neurology\n\nTi
 tle: Education Colloquium: Patient Education\n\nAccess URL: https://www.a
 an.com/msa/Public/Events/GetEventURL/772\n\nLearn More About This Event: 
 https://www.aan.com/msa/Public/Events/Details/772
DTEND:20060403T120000
DTSTAMP:20260424T121915Z
DTSTART:20060403T090000
LOCATION:https://www.aan.com/msa/Public/Events/GetEventURL/772
SEQUENCE:0
SUMMARY:AAN: Education Colloquium: Patient Education
UID:510b886d-b246-4570-9cb7-7cd3724e41fa
END:VEVENT
END:VCALENDAR
