BEGIN:VCALENDAR
PRODID:-//github.com/rianjs/ical.net//NONSGML ical.net 4.0//EN
VERSION:2.0
BEGIN:VTIMEZONE
TZID:Eastern Standard Time
X-LIC-LOCATION:America/New_York
BEGIN:STANDARD
DTSTART:20241103T020000
RRULE:FREQ=YEARLY;BYDAY=1SU;BYMONTH=11
TZNAME:EST
TZOFFSETFROM:-0400
TZOFFSETTO:-0500
END:STANDARD
BEGIN:DAYLIGHT
DTSTART:20250309T020000
RRULE:FREQ=YEARLY;BYDAY=2SU;BYMONTH=3
TZNAME:EDT
TZOFFSETFROM:-0500
TZOFFSETTO:-0400
END:DAYLIGHT
END:VTIMEZONE
BEGIN:VEVENT
DESCRIPTION:2019 Annual Meeting by the American Academy of Neurology\n\nTi
 tle: Growing Research in Medical Marijuana\n\n\nAccess URL: https://www.a
 an.com/msa/Public/Events/GetEventURL/7748\n\nLearn More About This Event:
  https://www.aan.com/msa/Public/Events/Details/7748
DTEND;TZID=Eastern Standard Time:20190510T134500
DTSTAMP:20260424T053926Z
DTSTART;TZID=Eastern Standard Time:20190510T130000
LOCATION:https://www.aan.com/msa/Public/Events/GetEventURL/7748
SEQUENCE:0
SUMMARY:AAN: Growing Research in Medical Marijuana\n
UID:d2d3bc8e-7214-4a55-aac8-47820e50bd53
END:VEVENT
END:VCALENDAR
