BEGIN:VCALENDAR
PRODID:-//github.com/rianjs/ical.net//NONSGML ical.net 4.0//EN
VERSION:2.0
BEGIN:VTIMEZONE
TZID:Eastern Standard Time
X-LIC-LOCATION:America/New_York
BEGIN:STANDARD
DTSTART:20241103T020000
RRULE:FREQ=YEARLY;BYDAY=1SU;BYMONTH=11
TZNAME:EST
TZOFFSETFROM:-0400
TZOFFSETTO:-0500
END:STANDARD
BEGIN:DAYLIGHT
DTSTART:20250309T020000
RRULE:FREQ=YEARLY;BYDAY=2SU;BYMONTH=3
TZNAME:EDT
TZOFFSETFROM:-0500
TZOFFSETTO:-0400
END:DAYLIGHT
END:VTIMEZONE
BEGIN:VEVENT
DESCRIPTION:2019 Annual Meeting by the American Academy of Neurology\n\nTi
 tle: Using EHR to Close Referral Loops\n\nAccess URL: https://www.aan.com
 /msa/Public/Events/GetEventURL/7750\n\nLearn More About This Event: https
 ://www.aan.com/msa/Public/Events/Details/7750
DTEND;TZID=Eastern Standard Time:20190506T144500
DTSTAMP:20260424T054002Z
DTSTART;TZID=Eastern Standard Time:20190506T140000
LOCATION:https://www.aan.com/msa/Public/Events/GetEventURL/7750
SEQUENCE:0
SUMMARY:AAN: Using EHR to Close Referral Loops
UID:6e0b3a60-6dda-49ba-8fa5-9b0645c493e8
END:VEVENT
END:VCALENDAR
