BEGIN:VCALENDAR
PRODID:-//github.com/rianjs/ical.net//NONSGML ical.net 4.0//EN
VERSION:2.0
BEGIN:VTIMEZONE
TZID:Eastern Standard Time
X-LIC-LOCATION:America/New_York
BEGIN:STANDARD
DTSTART:20241103T020000
RRULE:FREQ=YEARLY;BYDAY=1SU;BYMONTH=11
TZNAME:EST
TZOFFSETFROM:-0400
TZOFFSETTO:-0500
END:STANDARD
BEGIN:DAYLIGHT
DTSTART:20250309T020000
RRULE:FREQ=YEARLY;BYDAY=2SU;BYMONTH=3
TZNAME:EDT
TZOFFSETFROM:-0500
TZOFFSETTO:-0400
END:DAYLIGHT
END:VTIMEZONE
BEGIN:VEVENT
DESCRIPTION:2019 Annual Meeting by the American Academy of Neurology\n\nTi
 tle: Navigating Prior Authorizations\n\nAccess URL: https://www.aan.com/m
 sa/Public/Events/GetEventURL/7753\n\nLearn More About This Event: https:/
 /www.aan.com/msa/Public/Events/Details/7753
DTEND;TZID=Eastern Standard Time:20190505T164500
DTSTAMP:20260424T053922Z
DTSTART;TZID=Eastern Standard Time:20190505T160000
LOCATION:https://www.aan.com/msa/Public/Events/GetEventURL/7753
SEQUENCE:0
SUMMARY:AAN: Navigating Prior Authorizations
UID:3b4a4ea1-3c01-42f6-9828-91339234120a
END:VEVENT
END:VCALENDAR
