BEGIN:VCALENDAR
PRODID:-//github.com/rianjs/ical.net//NONSGML ical.net 4.0//EN
VERSION:2.0
BEGIN:VEVENT
DESCRIPTION:2006 Annual Meeting by the American Academy of Neurology\n\nTi
 tle: BRAINS Colloquium - The BRAINS Behind our Business: Topics in Practi
 ce Management and Finance\n\nAccess URL: https://www.aan.com/msa/Public/E
 vents/GetEventURL/777\n\nLearn More About This Event: https://www.aan.com
 /msa/Public/Events/Details/777
DTEND:20060402T180000
DTSTAMP:20260424T122151Z
DTSTART:20060402T141500
LOCATION:https://www.aan.com/msa/Public/Events/GetEventURL/777
SEQUENCE:0
SUMMARY:AAN: BRAINS Colloquium - The BRAINS Behind our Business: Topics in
  Practice Management and Finance
UID:fdf3ce4b-409e-407f-847b-9bf304bf33d4
END:VEVENT
END:VCALENDAR
