BEGIN:VCALENDAR
PRODID:-//github.com/rianjs/ical.net//NONSGML ical.net 4.0//EN
VERSION:2.0
BEGIN:VTIMEZONE
TZID:Eastern Standard Time
X-LIC-LOCATION:America/New_York
BEGIN:STANDARD
DTSTART:20241103T020000
RRULE:FREQ=YEARLY;BYDAY=1SU;BYMONTH=11
TZNAME:EST
TZOFFSETFROM:-0400
TZOFFSETTO:-0500
END:STANDARD
BEGIN:DAYLIGHT
DTSTART:20250309T020000
RRULE:FREQ=YEARLY;BYDAY=2SU;BYMONTH=3
TZNAME:EDT
TZOFFSETFROM:-0500
TZOFFSETTO:-0400
END:DAYLIGHT
END:VTIMEZONE
BEGIN:VEVENT
DESCRIPTION:2019 Annual Meeting by the American Academy of Neurology\n\nTi
 tle: Blind Spots: The Impact of Conscious and Unconscious Biases\n\nAcces
 s URL: https://www.aan.com/msa/Public/Events/GetEventURL/7773\n\nLearn Mo
 re About This Event: https://www.aan.com/msa/Public/Events/Details/7773
DTEND;TZID=Eastern Standard Time:20190506T143000
DTSTAMP:20260424T053923Z
DTSTART;TZID=Eastern Standard Time:20190506T133000
LOCATION:https://www.aan.com/msa/Public/Events/GetEventURL/7773
SEQUENCE:0
SUMMARY:AAN: Blind Spots: The Impact of Conscious and Unconscious Biases
UID:4a31f1d2-87f6-4bf8-8e85-bca3696ebecf
END:VEVENT
END:VCALENDAR
